BEGIN:VCALENDAR
VERSION:2.0
PRODID:-//HWP Sas van Gent - ECPv6.15.13//NONSGML v1.0//EN
CALSCALE:GREGORIAN
METHOD:PUBLISH
X-ORIGINAL-URL:https://hwpsasvangent.nl
X-WR-CALDESC:Evenementen voor HWP Sas van Gent
REFRESH-INTERVAL;VALUE=DURATION:PT1H
X-Robots-Tag:noindex
X-PUBLISHED-TTL:PT1H
BEGIN:VTIMEZONE
TZID:UTC
BEGIN:STANDARD
TZOFFSETFROM:+0000
TZOFFSETTO:+0000
TZNAME:UTC
DTSTART:20240101T000000
END:STANDARD
END:VTIMEZONE
BEGIN:VEVENT
DTSTART;TZID=UTC:20250228T200000
DTEND;TZID=UTC:20250228T233000
DTSTAMP:20260421T201427
CREATED:20250211T165352Z
LAST-MODIFIED:20250225T095158Z
UID:7337-1740772800-1740785400@hwpsasvangent.nl
SUMMARY:Souburg A - HWP A
DESCRIPTION:Op vrijdag 28 februari speelt ons A-team een uitwedstrijd tegen het loeisterke Souburg A. Samen met Goes A strijden deze teams om het kampioenschap van Zeeland. Deze wedstrijd is verzet van 13 februari.
URL:https://hwpsasvangent.nl/event/souburg-a-hwp-a/
END:VEVENT
BEGIN:VEVENT
DTSTART;TZID=UTC:20250228T200000
DTEND;TZID=UTC:20250228T233000
DTSTAMP:20260421T201427
CREATED:20250211T165925Z
LAST-MODIFIED:20250211T215509Z
UID:7340-1740772800-1740785400@hwpsasvangent.nl
SUMMARY:Ledegancktoernooi
DESCRIPTION:Vrijdagavond 28 februari organiseert HWP in ‘t Meulegat te Sluiskil een ronde van het vermaarde Ledeganck teamtornooi.
URL:https://hwpsasvangent.nl/event/ledegancktoernooi/
END:VEVENT
END:VCALENDAR